BEGIN:VCALENDAR
VERSION:2.0
PRODID:-//specialolympicsnd.org//NONSGML kigkonsult.se iCalcreator 2.30.10/
 /
CALSCALE:GREGORIAN
METHOD:PUBLISH
UID:ac9e2cb7-dd57-4285-9da3-0a3680120875
X-WR-CALDESC:Training period begins: January 2nd - February 23rd
X-WR-RELCALID:c7fbfd3a23e3e295269707b69c60e14b
X-WR-TIMEZONE:America/Chicago
BEGIN:VTIMEZONE
TZID:America/Chicago
BEGIN:STANDARD
TZNAME:CST
DTSTART:20221106T020000
TZOFFSETFROM:-0500
TZOFFSETTO:-0600
RDATE:20231105T020000
END:STANDARD
BEGIN:DAYLIGHT
TZNAME:CDT
DTSTART:20220313T020000
TZOFFSETFROM:-0600
TZOFFSETTO:-0500
RDATE:20230312T020000
RDATE:20240310T020000
END:DAYLIGHT
END:VTIMEZONE
BEGIN:VEVENT
UID:e9edd238-00a9-4acc-aa7f-527ac8076e17
DTSTAMP:20260426T025740Z
DESCRIPTION:Training period begins: January 2nd - February 23rd
DTSTART;TZID=America/Chicago:20230102T000000
DTEND;TZID=America/Chicago:20230102T235900
LOCATION:
SUMMARY:Basketball - Start of Training Period
END:VEVENT
END:VCALENDAR
