BEGIN:VCALENDAR
VERSION:2.0
PRODID:-//specialolympicsnd.org//NONSGML kigkonsult.se iCalcreator 2.30.10/
 /
CALSCALE:GREGORIAN
METHOD:PUBLISH
UID:6640c8e4-63ca-47ce-b8e7-2a5588879c6f
X-WR-CALDESC:
X-WR-RELCALID:3cae7b1566c57b17d142941f93ff7eaf
X-WR-TIMEZONE:America/Chicago
BEGIN:VTIMEZONE
TZID:America/Chicago
BEGIN:STANDARD
TZNAME:CST
DTSTART:20241103T020000
TZOFFSETFROM:-0500
TZOFFSETTO:-0600
RDATE:20251102T020000
RDATE:20261101T020000
END:STANDARD
BEGIN:DAYLIGHT
TZNAME:CDT
DTSTART:20250309T020000
TZOFFSETFROM:-0600
TZOFFSETTO:-0500
RDATE:20260308T020000
RDATE:20270314T020000
END:DAYLIGHT
END:VTIMEZONE
BEGIN:VEVENT
UID:745e8f60-e646-4a93-9be9-4f6ba6f77b06
DTSTAMP:20260423T094920Z
DESCRIPTION:
DTSTART;TZID=America/Chicago:20250913T050000
DTEND;TZID=America/Chicago:20250913T050001
LOCATION:2511 17th Ave S\, Grand Forks\, ND 58201 US
SUMMARY:State Soccer & Bocce Tournament
END:VEVENT
END:VCALENDAR
