BEGIN:VCALENDAR
VERSION:2.0
PRODID:-//specialolympicsnd.org//NONSGML kigkonsult.se iCalcreator 2.30.10/
 /
CALSCALE:GREGORIAN
METHOD:PUBLISH
UID:b5d1668e-aa37-4966-a041-dc18f4acc182
X-WR-CALDESC:EAST volunteer link: https://www.signupgenius.com/go/70A0D44AD
 A92EA0FD0-44884961-2023\nWEST volunteer link: https://www.signupgenius.com
 /go/70A0D44ADA92EA0FD0-44894947-2023
X-WR-RELCALID:22e810ddfda873ce008f8ba805108aad
X-WR-TIMEZONE:America/Chicago
BEGIN:VTIMEZONE
TZID:America/Chicago
BEGIN:STANDARD
TZNAME:CST
DTSTART:20221106T020000
TZOFFSETFROM:-0500
TZOFFSETTO:-0600
RDATE:20231105T020000
RDATE:20241103T020000
END:STANDARD
BEGIN:DAYLIGHT
TZNAME:CDT
DTSTART:20230312T020000
TZOFFSETFROM:-0600
TZOFFSETTO:-0500
RDATE:20240310T020000
RDATE:20250309T020000
END:DAYLIGHT
END:VTIMEZONE
BEGIN:VEVENT
UID:62c486e9-ef69-4476-99ac-3ec8d2355087
DTSTAMP:20260423T125319Z
DESCRIPTION:EAST volunteer link: https://www.signupgenius.com/go/70A0D44ADA
 92EA0FD0-44884961-2023\nWEST volunteer link: https://www.signupgenius.com/
 go/70A0D44ADA92EA0FD0-44894947-2023
DTSTART;TZID=America/Chicago:20231105T050000
DTEND;TZID=America/Chicago:20231105T050001
LOCATION:Fargo & Mandan
SUMMARY:State Bowling
END:VEVENT
END:VCALENDAR
