BEGIN:VCALENDAR
VERSION:2.0
PRODID:-//specialolympicsnd.org//NONSGML kigkonsult.se iCalcreator 2.30.10/
 /
CALSCALE:GREGORIAN
METHOD:PUBLISH
UID:50d44d06-ef13-4aa9-bddc-6fd07c4370c2
X-WR-CALDESC:
X-WR-RELCALID:3c2940a864398d881b6a7839f10f891b
X-WR-TIMEZONE:America/Chicago
BEGIN:VTIMEZONE
TZID:America/Chicago
BEGIN:STANDARD
TZNAME:CST
DTSTART:20221106T020000
TZOFFSETFROM:-0500
TZOFFSETTO:-0600
RDATE:20231105T020000
RDATE:20241103T020000
END:STANDARD
BEGIN:DAYLIGHT
TZNAME:CDT
DTSTART:20230312T020000
TZOFFSETFROM:-0600
TZOFFSETTO:-0500
RDATE:20240310T020000
END:DAYLIGHT
END:VTIMEZONE
BEGIN:VEVENT
UID:b4e445fb-406c-405e-a460-b080eeae02d8
DTSTAMP:20260423T205504Z
DESCRIPTION:
DTSTART;TZID=America/Chicago:20230513T000000
DTEND;TZID=America/Chicago:20230513T235900
LOCATION:Minot
SUMMARY:Summer Games Swim Meet
END:VEVENT
END:VCALENDAR
