BEGIN:VCALENDAR
VERSION:2.0
PRODID:-//specialolympicsnd.org//NONSGML kigkonsult.se iCalcreator 2.30.10/
 /
CALSCALE:GREGORIAN
METHOD:PUBLISH
UID:353c654c-4bf6-4c94-9b6b-45f9ec95d924
X-WR-CALDESC:Training period begins: March 27th - June 3rd\n\nSummer games 
 sports include: Powerlifting\, Unified Volleyball\, Swimming\, Bocce\, Fla
 g Football\, Track & Field.
X-WR-RELCALID:e3a24e4d1bea4dd71a1c1c5201b37f17
X-WR-TIMEZONE:America/Chicago
BEGIN:VTIMEZONE
TZID:America/Chicago
BEGIN:STANDARD
TZNAME:CST
DTSTART:20221106T020000
TZOFFSETFROM:-0500
TZOFFSETTO:-0600
RDATE:20231105T020000
END:STANDARD
BEGIN:DAYLIGHT
TZNAME:CDT
DTSTART:20230312T020000
TZOFFSETFROM:-0600
TZOFFSETTO:-0500
RDATE:20240310T020000
END:DAYLIGHT
END:VTIMEZONE
BEGIN:VEVENT
UID:661ab258-b33c-490d-b246-c4e959eeb182
DTSTAMP:20260423T234357Z
DESCRIPTION:Training period begins: March 27th - June 3rd\n\nSummer games s
 ports include: Powerlifting\, Unified Volleyball\, Swimming\, Bocce\, Flag
  Football\, Track & Field.
DTSTART;TZID=America/Chicago:20230327T000000
DTEND;TZID=America/Chicago:20230327T235900
LOCATION:
SUMMARY:Summer Games - Start of Training Period
END:VEVENT
END:VCALENDAR
