BEGIN:VCALENDAR
VERSION:2.0
PRODID:-//specialolympicsnd.org//NONSGML kigkonsult.se iCalcreator 2.30.10/
 /
CALSCALE:GREGORIAN
METHOD:PUBLISH
UID:9974cf6f-9979-4f02-b920-dfe5d4d922ab
X-WR-CALDESC:Training period begins: September 5th - November 4th\n\n*15 ga
 mes must be bowled for an athlete to qualify for the State Bowling Tournam
 ent.
X-WR-RELCALID:12799562f254ca07d36ea148e72a1b89
X-WR-TIMEZONE:America/Chicago
BEGIN:VTIMEZONE
TZID:America/Chicago
BEGIN:STANDARD
TZNAME:CST
DTSTART:20211107T020000
TZOFFSETFROM:-0500
TZOFFSETTO:-0600
RDATE:20221106T020000
RDATE:20231105T020000
END:STANDARD
BEGIN:DAYLIGHT
TZNAME:CDT
DTSTART:20220313T020000
TZOFFSETFROM:-0600
TZOFFSETTO:-0500
RDATE:20230312T020000
END:DAYLIGHT
END:VTIMEZONE
BEGIN:VEVENT
UID:51f87573-0480-4b7c-b523-4f9326a679a0
DTSTAMP:20260424T070320Z
DESCRIPTION:Training period begins: September 5th - November 4th\n\n*15 gam
 es must be bowled for an athlete to qualify for the State Bowling Tourname
 nt.
DTSTART;TZID=America/Chicago:20220905T000000
DTEND;TZID=America/Chicago:20220905T235900
LOCATION:
SUMMARY:Bowling - Start of Training Period
END:VEVENT
END:VCALENDAR
