BEGIN:VCALENDAR
VERSION:2.0
PRODID:-//specialolympicsnd.org//NONSGML kigkonsult.se iCalcreator 2.30.10/
 /
CALSCALE:GREGORIAN
METHOD:PUBLISH
UID:af2790de-9975-43a7-b8c1-137b754e90fc
X-WR-CALDESC:
X-WR-RELCALID:f30716fe39c2860355e268e972b6e300
X-WR-TIMEZONE:America/Chicago
BEGIN:VTIMEZONE
TZID:America/Chicago
BEGIN:STANDARD
TZNAME:CST
DTSTART:20211107T020000
TZOFFSETFROM:-0500
TZOFFSETTO:-0600
RDATE:20221106T020000
RDATE:20231105T020000
END:STANDARD
BEGIN:DAYLIGHT
TZNAME:CDT
DTSTART:20220313T020000
TZOFFSETFROM:-0600
TZOFFSETTO:-0500
RDATE:20230312T020000
END:DAYLIGHT
END:VTIMEZONE
BEGIN:VEVENT
UID:9a1fd7e2-3432-48b4-ae8a-f687b140e173
DTSTAMP:20260424T084702Z
DESCRIPTION:
DTSTART;TZID=America/Chicago:20220831T000000
DTEND;TZID=America/Chicago:20220831T235900
LOCATION:
SUMMARY:Soccer/Bocce - ENTRY DEADLINE
END:VEVENT
END:VCALENDAR
