BEGIN:VCALENDAR
VERSION:2.0
PRODID:-//specialolympicsnd.org//NONSGML kigkonsult.se iCalcreator 2.30.10/
 /
CALSCALE:GREGORIAN
METHOD:PUBLISH
UID:91bbe001-babe-49da-b3cf-c85767a6ea2f
X-WR-CALDESC:Training period begins: July 18th - September 9th
X-WR-RELCALID:be2aaac743aca43e1a9453dfcb542d83
X-WR-TIMEZONE:America/Chicago
BEGIN:VTIMEZONE
TZID:America/Chicago
BEGIN:STANDARD
TZNAME:CST
DTSTART:20211107T020000
TZOFFSETFROM:-0500
TZOFFSETTO:-0600
RDATE:20221106T020000
RDATE:20231105T020000
END:STANDARD
BEGIN:DAYLIGHT
TZNAME:CDT
DTSTART:20220313T020000
TZOFFSETFROM:-0600
TZOFFSETTO:-0500
RDATE:20230312T020000
END:DAYLIGHT
END:VTIMEZONE
BEGIN:VEVENT
UID:43901f8b-aed3-40f7-9072-4819e7ae35d5
DTSTAMP:20260424T101427Z
DESCRIPTION:Training period begins: July 18th - September 9th
DTSTART;TZID=America/Chicago:20220718T000000
DTEND;TZID=America/Chicago:20220718T235900
LOCATION:
SUMMARY:Soccer/Bocce - Start of Training Period
END:VEVENT
END:VCALENDAR
