BEGIN:VCALENDAR
VERSION:2.0
PRODID:-//specialolympicsnd.org//NONSGML kigkonsult.se iCalcreator 2.30.10/
 /
CALSCALE:GREGORIAN
METHOD:PUBLISH
UID:59107389-2a74-4076-bbf7-6ff99253069a
X-WR-CALDESC:
X-WR-RELCALID:bca29da1c12a8ba5d245d9427e5045f0
X-WR-TIMEZONE:America/Chicago
BEGIN:VTIMEZONE
TZID:America/Chicago
BEGIN:STANDARD
TZNAME:CST
DTSTART:20211107T020000
TZOFFSETFROM:-0500
TZOFFSETTO:-0600
RDATE:20221106T020000
END:STANDARD
BEGIN:DAYLIGHT
TZNAME:CDT
DTSTART:20210314T020000
TZOFFSETFROM:-0600
TZOFFSETTO:-0500
RDATE:20220313T020000
RDATE:20230312T020000
END:DAYLIGHT
END:VTIMEZONE
BEGIN:VEVENT
UID:7a9713d3-c201-4394-a3ee-7d234e1f4fad
DTSTAMP:20260424T213211Z
DESCRIPTION:
DTSTART;TZID=America/Chicago:20211125T080000
DTEND;TZID=America/Chicago:20211126T170000
LOCATION:
SUMMARY:State Office Closed
END:VEVENT
END:VCALENDAR
