BEGIN:VCALENDAR
VERSION:2.0
PRODID:-//specialolympicsnd.org//NONSGML kigkonsult.se iCalcreator 2.30.10/
 /
CALSCALE:GREGORIAN
METHOD:PUBLISH
UID:03d8f470-dfa8-413a-b3d7-d7d8e477b0e1
X-WR-CALDESC:The Fitness Challenge is a great way to stay active and compet
 itive. Work towards achieving your fitness goals and you might just win a 
 prize along the way! Click the link below to learn more about the fitness 
 challenge.
X-WR-RELCALID:de5567133cb302be5df85d101f370e9a
X-WR-TIMEZONE:America/Chicago
BEGIN:VTIMEZONE
TZID:America/Chicago
BEGIN:STANDARD
TZNAME:CST
DTSTART:20201101T020000
TZOFFSETFROM:-0500
TZOFFSETTO:-0600
RDATE:20211107T020000
END:STANDARD
BEGIN:DAYLIGHT
TZNAME:CDT
DTSTART:20200308T020000
TZOFFSETFROM:-0600
TZOFFSETTO:-0500
RDATE:20210314T020000
RDATE:20220313T020000
END:DAYLIGHT
END:VTIMEZONE
BEGIN:VEVENT
UID:f7e0f25c-cb80-4f6f-9984-51c31b9e5e69
DTSTAMP:20260425T102111Z
DESCRIPTION:The Fitness Challenge is a great way to stay active and competi
 tive. Work towards achieving your fitness goals and you might just win a p
 rize along the way! Click the link below to learn more about the fitness c
 hallenge.
DTSTART;TZID=America/Chicago:20210201T000000
DTEND;TZID=America/Chicago:20210201T235900
LOCATION:At your home!
SUMMARY:Fitness Challenge Begins!
END:VEVENT
END:VCALENDAR
