BEGIN:VCALENDAR
VERSION:2.0
PRODID:-//specialolympicsnd.org//NONSGML kigkonsult.se iCalcreator 2.30.10/
 /
CALSCALE:GREGORIAN
METHOD:PUBLISH
UID:ced9c1a7-97b8-4f66-90e8-8df692ba9aa8
X-WR-CALDESC:
X-WR-RELCALID:0b015dc469c159374415d77ab24becc5
X-WR-TIMEZONE:America/Chicago
BEGIN:VTIMEZONE
TZID:America/Chicago
BEGIN:STANDARD
TZNAME:CST
DTSTART:20191103T020000
TZOFFSETFROM:-0500
TZOFFSETTO:-0600
RDATE:20201101T020000
RDATE:20211107T020000
END:STANDARD
BEGIN:DAYLIGHT
TZNAME:CDT
DTSTART:20200308T020000
TZOFFSETFROM:-0600
TZOFFSETTO:-0500
RDATE:20210314T020000
END:DAYLIGHT
END:VTIMEZONE
BEGIN:VEVENT
UID:f35d52b5-a213-47d6-a5e1-aece5aa73ed3
DTSTAMP:20260425T222909Z
DESCRIPTION:
DTSTART;TZID=America/Chicago:20200630T000000
DTEND;TZID=America/Chicago:20200630T235900
LOCATION:
SUMMARY:Virtual Summer Games Results
END:VEVENT
END:VCALENDAR
