BEGIN:VCALENDAR
VERSION:2.0
PRODID:-//specialolympicsnd.org//NONSGML kigkonsult.se iCalcreator 2.30.10/
 /
CALSCALE:GREGORIAN
METHOD:PUBLISH
UID:9678e1fb-89c6-46dd-a461-4ab49b42059e
X-WR-CALDESC:
X-WR-RELCALID:c21e85737d00545deceefc528c15ef7a
X-WR-TIMEZONE:America/Chicago
BEGIN:VTIMEZONE
TZID:America/Chicago
BEGIN:STANDARD
TZNAME:CST
DTSTART:20191103T020000
TZOFFSETFROM:-0500
TZOFFSETTO:-0600
RDATE:20201101T020000
RDATE:20211107T020000
END:STANDARD
BEGIN:DAYLIGHT
TZNAME:CDT
DTSTART:20200308T020000
TZOFFSETFROM:-0600
TZOFFSETTO:-0500
RDATE:20210314T020000
END:DAYLIGHT
END:VTIMEZONE
BEGIN:VEVENT
UID:e4b59d2b-7c04-45b8-8c7d-66d5490fa7cd
DTSTAMP:20260425T222341Z
DESCRIPTION:
DTSTART;TZID=America/Chicago:20200611T190000
DTEND;TZID=America/Chicago:20200612T000000
LOCATION:
SUMMARY:Virtual Summer Games Award Ceremony
END:VEVENT
END:VCALENDAR
