BEGIN:VCALENDAR
VERSION:2.0
PRODID:-//specialolympicsnd.org//NONSGML kigkonsult.se iCalcreator 2.30.10/
 /
CALSCALE:GREGORIAN
METHOD:PUBLISH
UID:8fbeb392-c66d-498b-b1ae-7798e2fe641e
X-WR-CALDESC:Cornhole - Unified & Traditional doubles will compete on Satur
 day\nUnified Volleyball competition will take place on Sunday
X-WR-RELCALID:8efa38a51d606e3ea2b569fc6a774a38
X-WR-TIMEZONE:America/Chicago
BEGIN:VTIMEZONE
TZID:America/Chicago
BEGIN:STANDARD
TZNAME:CST
DTSTART:20251102T020000
TZOFFSETFROM:-0500
TZOFFSETTO:-0600
RDATE:20261101T020000
END:STANDARD
BEGIN:DAYLIGHT
TZNAME:CDT
DTSTART:20250309T020000
TZOFFSETFROM:-0600
TZOFFSETTO:-0500
RDATE:20260308T020000
RDATE:20270314T020000
END:DAYLIGHT
END:VTIMEZONE
BEGIN:VEVENT
UID:0e6d8c93-62bc-4864-b703-e8e53cd0c80e
DTSTAMP:20260420T202320Z
DESCRIPTION:Cornhole - Unified & Traditional doubles will compete on Saturd
 ay\nUnified Volleyball competition will take place on Sunday
DTSTART;TZID=America/Chicago:20260228T050000
DTEND;TZID=America/Chicago:20260301T050001
LOCATION:Valley City High School\, 493 Central Avenue\, Valley City\, ND 58
 072 US
SUMMARY:State Winter Games
END:VEVENT
END:VCALENDAR
