BEGIN:VCALENDAR
VERSION:2.0
PRODID:-//specialolympicsnd.org//NONSGML kigkonsult.se iCalcreator 2.30.10/
 /
CALSCALE:GREGORIAN
METHOD:PUBLISH
UID:eea55340-7e84-468b-8f1e-1e293e9679ff
X-WR-CALDESC:
X-WR-RELCALID:7b0706d5a30d4c62a50caad0d00d77ee
X-WR-TIMEZONE:America/Chicago
BEGIN:VTIMEZONE
TZID:America/Chicago
BEGIN:STANDARD
TZNAME:CST
DTSTART:20241103T020000
TZOFFSETFROM:-0500
TZOFFSETTO:-0600
RDATE:20251102T020000
RDATE:20261101T020000
END:STANDARD
BEGIN:DAYLIGHT
TZNAME:CDT
DTSTART:20250309T020000
TZOFFSETFROM:-0600
TZOFFSETTO:-0500
RDATE:20260308T020000
RDATE:20270314T020000
END:DAYLIGHT
END:VTIMEZONE
BEGIN:VEVENT
UID:e68a3e18-6856-4794-8a09-080a9d3479c3
DTSTAMP:20260421T055914Z
DESCRIPTION:
DTSTART;TZID=America/Chicago:20250914T080000
DTEND;TZID=America/Chicago:20250914T140000
LOCATION:2511 17th Ave S\, Grand Forks\, ND 58201 US
SUMMARY:State Soccer & Bocce Tournament
END:VEVENT
END:VCALENDAR
