BEGIN:VCALENDAR
VERSION:2.0
PRODID:-//specialolympicsnd.org//NONSGML kigkonsult.se iCalcreator 2.30.10/
 /
CALSCALE:GREGORIAN
METHOD:PUBLISH
UID:3eb24be0-8c6c-49c6-bba3-0b545db7eeb7
X-WR-CALDESC:Training period begins: November 28th - January 12th\n\nWinter
  games sports include: Alpine Skiing\, Cross Country Skiing\, and Snowshoe
 ing.
X-WR-RELCALID:5dbaf95d9cf7388638998a9b7d84fe12
X-WR-TIMEZONE:America/Chicago
BEGIN:VTIMEZONE
TZID:America/Chicago
BEGIN:STANDARD
TZNAME:CST
DTSTART:20221106T020000
TZOFFSETFROM:-0500
TZOFFSETTO:-0600
RDATE:20231105T020000
END:STANDARD
BEGIN:DAYLIGHT
TZNAME:CDT
DTSTART:20220313T020000
TZOFFSETFROM:-0600
TZOFFSETTO:-0500
RDATE:20230312T020000
RDATE:20240310T020000
END:DAYLIGHT
END:VTIMEZONE
BEGIN:VEVENT
UID:8b3fcbec-0099-48e7-a0e4-066a06ade080
DTSTAMP:20260425T142718Z
DESCRIPTION:Training period begins: November 28th - January 12th\n\nWinter 
 games sports include: Alpine Skiing\, Cross Country Skiing\, and Snowshoei
 ng.
DTSTART;TZID=America/Chicago:20221128T000000
DTEND;TZID=America/Chicago:20221128T235900
LOCATION:
SUMMARY:Winter Games - Start of Training Period
END:VEVENT
END:VCALENDAR
