BEGIN:VCALENDAR
VERSION:2.0
PRODID:-//specialolympicsnd.org//NONSGML kigkonsult.se iCalcreator 2.30.10/
 /
CALSCALE:GREGORIAN
METHOD:PUBLISH
UID:7797e098-0869-42cd-ae1f-139f5a652f15
X-WR-CALDESC:
X-WR-RELCALID:d05ecfd5f523ada6f70526a16b785eed
X-WR-TIMEZONE:America/Chicago
BEGIN:VTIMEZONE
TZID:America/Chicago
BEGIN:STANDARD
TZNAME:CST
DTSTART:20251102T020000
TZOFFSETFROM:-0500
TZOFFSETTO:-0600
RDATE:20261101T020000
END:STANDARD
BEGIN:DAYLIGHT
TZNAME:CDT
DTSTART:20250309T020000
TZOFFSETFROM:-0600
TZOFFSETTO:-0500
RDATE:20260308T020000
RDATE:20270314T020000
END:DAYLIGHT
END:VTIMEZONE
BEGIN:VEVENT
UID:ac390f6c-117d-4b53-bad3-da0a998c34f9
DTSTAMP:20260421T010652Z
DESCRIPTION:
DTSTART;TZID=America/Chicago:20251206T080000
DTEND;TZID=America/Chicago:20251206T173000
LOCATION:Ramstad Middle School\, 1215 36th Ave NW\, Minot\, ND 58703 US
SUMMARY:State Basketball Tournament
END:VEVENT
END:VCALENDAR
