BEGIN:VCALENDAR
VERSION:2.0
PRODID:-//specialolympicsnd.org//NONSGML kigkonsult.se iCalcreator 2.30.10/
 /
CALSCALE:GREGORIAN
METHOD:PUBLISH
UID:d6813f1b-d510-4bda-9e63-9837109064f2
X-WR-CALDESC:
X-WR-RELCALID:a57d4ced00f3f7356067a1ac4d3d688c
X-WR-TIMEZONE:America/Chicago
BEGIN:VTIMEZONE
TZID:America/Chicago
BEGIN:STANDARD
TZNAME:CST
DTSTART:20241103T020000
TZOFFSETFROM:-0500
TZOFFSETTO:-0600
RDATE:20251102T020000
RDATE:20261101T020000
END:STANDARD
BEGIN:DAYLIGHT
TZNAME:CDT
DTSTART:20250309T020000
TZOFFSETFROM:-0600
TZOFFSETTO:-0500
RDATE:20260308T020000
RDATE:20270314T020000
END:DAYLIGHT
END:VTIMEZONE
BEGIN:VEVENT
UID:03b17aa6-8c1f-4f3b-8080-6767b275b5f7
DTSTAMP:20260421T035818Z
DESCRIPTION:
DTSTART;TZID=America/Chicago:20251025T110000
DTEND;TZID=America/Chicago:20251025T150000
LOCATION:1120 Riverwood Drive\, Bismarck\, ND 58504 US
SUMMARY:Polar Plunge - Bismarck
END:VEVENT
END:VCALENDAR
