BEGIN:VCALENDAR
VERSION:2.0
PRODID:-//specialolympicsnd.org//NONSGML kigkonsult.se iCalcreator 2.30.10/
 /
CALSCALE:GREGORIAN
METHOD:PUBLISH
UID:195d889a-fb68-4d37-a097-d7b8c904a80e
X-WR-CALDESC:Special Olympics Young Athletes is an early childhood play pro
 gram for children with and without intellectual disabilities\, ages 2 to 7
  years old. Young Athletes introduces basic sport skills\, like running\, 
 kicking and throwing. Young Athletes offers families\, teachers\, caregive
 rs and people from the community the chance to share the joy of sports wit
 h all children. Registration is required. If you have previously completed
  the registration paperwork for 2025\, you do not need to complete the pap
 er forms again. We do still ask you to RSVP here: https://forms.office.com
 /r/pURDgbTjUE
X-WR-RELCALID:13f27b53a1d2e522eda4b5cb2a17dc1b
X-WR-TIMEZONE:America/Chicago
BEGIN:VTIMEZONE
TZID:America/Chicago
BEGIN:STANDARD
TZNAME:CST
DTSTART:20241103T020000
TZOFFSETFROM:-0500
TZOFFSETTO:-0600
RDATE:20251102T020000
RDATE:20261101T020000
END:STANDARD
BEGIN:DAYLIGHT
TZNAME:CDT
DTSTART:20250309T020000
TZOFFSETFROM:-0600
TZOFFSETTO:-0500
RDATE:20260308T020000
END:DAYLIGHT
END:VTIMEZONE
BEGIN:VEVENT
UID:3be3011b-3f48-47d0-8b36-2f52ab5d82a3
DTSTAMP:20260423T082327Z
DESCRIPTION:Special Olympics Young Athletes is an early childhood play prog
 ram for children with and without intellectual disabilities\, ages 2 to 7 
 years old. Young Athletes introduces basic sport skills\, like running\, k
 icking and throwing. Young Athletes offers families\, teachers\, caregiver
 s and people from the community the chance to share the joy of sports with
  all children. Registration is required. If you have previously completed 
 the registration paperwork for 2025\, you do not need to complete the pape
 r forms again. We do still ask you to RSVP here: https://forms.office.com/
 r/pURDgbTjUE
DTSTART;TZID=America/Chicago:20250726T100000
DTEND;TZID=America/Chicago:20250726T110000
LOCATION:2007 8th  Ave SE\, Mandan\, ND 58554 US
SUMMARY:Young Athletes Learn to Play Soccer
END:VEVENT
END:VCALENDAR
