BEGIN:VCALENDAR
VERSION:2.0
PRODID:-//specialolympicsnd.org//NONSGML kigkonsult.se iCalcreator 2.30.10/
 /
CALSCALE:GREGORIAN
METHOD:PUBLISH
UID:4c09f89d-9a3b-4e2c-9e64-c8d316ad98d7
X-WR-CALDESC:The Fit 5+ Strong Minds Challenge is the perfect way for begin
 ners and families to stay on track with health goals and routine\, healthy
  habits. The 8-week challenge will center around daily Exercise\, Nutritio
 n\, Hydration\, and Emotional Well-being.\n\nWe will be using the SO FitNo
 w App\, so tracking your activity will be easy and fun! Download the SO Fi
 tNow App here: https://sofitnow.specialolympics.org/\n\nQuestions about th
 e challenge? Email aroaldson@specialolympicsnd.org
X-WR-RELCALID:e180c929ce2ff0f704d3cbc5b1c92a9d
X-WR-TIMEZONE:America/Chicago
BEGIN:VTIMEZONE
TZID:America/Chicago
BEGIN:STANDARD
TZNAME:CST
DTSTART:20241103T020000
TZOFFSETFROM:-0500
TZOFFSETTO:-0600
RDATE:20251102T020000
END:STANDARD
BEGIN:DAYLIGHT
TZNAME:CDT
DTSTART:20240310T020000
TZOFFSETFROM:-0600
TZOFFSETTO:-0500
RDATE:20250309T020000
RDATE:20260308T020000
END:DAYLIGHT
END:VTIMEZONE
BEGIN:VEVENT
UID:9b594897-4469-4019-a09c-fe243a1753c6
DTSTAMP:20260419T184321Z
DESCRIPTION:The Fit 5+ Strong Minds Challenge is the perfect way for beginn
 ers and families to stay on track with health goals and routine\, healthy 
 habits. The 8-week challenge will center around daily Exercise\, Nutrition
 \, Hydration\, and Emotional Well-being.\n\nWe will be using the SO FitNow
  App\, so tracking your activity will be easy and fun! Download the SO Fit
 Now App here: https://sofitnow.specialolympics.org/\n\nQuestions about the
  challenge? Email aroaldson@specialolympicsnd.org
DTSTART;TZID=America/Chicago:20250105T050000
DTEND;TZID=America/Chicago:20250302T050001
LOCATION:
SUMMARY:Fit 5 + Strong Minds Challenge
END:VEVENT
END:VCALENDAR
