BEGIN:VCALENDAR
VERSION:2.0
PRODID:-//specialolympicsnd.org//NONSGML kigkonsult.se iCalcreator 2.30.10/
 /
CALSCALE:GREGORIAN
METHOD:PUBLISH
UID:ae8e2f15-183c-44c8-b210-d9c2d86ca1b1
X-WR-CALDESC:
X-WR-RELCALID:5b3e014c04bbfc6773ce20e4d1577d03
X-WR-TIMEZONE:America/Chicago
BEGIN:VTIMEZONE
TZID:America/Chicago
BEGIN:STANDARD
TZNAME:CST
DTSTART:20231105T020000
TZOFFSETFROM:-0500
TZOFFSETTO:-0600
RDATE:20241103T020000
RDATE:20251102T020000
END:STANDARD
BEGIN:DAYLIGHT
TZNAME:CDT
DTSTART:20240310T020000
TZOFFSETFROM:-0600
TZOFFSETTO:-0500
RDATE:20250309T020000
END:DAYLIGHT
END:VTIMEZONE
BEGIN:VEVENT
UID:564973fa-63d0-45c0-95ab-301ca2f0046b
DTSTAMP:20260424T103610Z
DESCRIPTION:
DTSTART;TZID=America/Chicago:20240518T090000
DTEND;TZID=America/Chicago:20240519T140000
LOCATION:Fargo North High School
SUMMARY:State Summer Games
END:VEVENT
END:VCALENDAR
