BEGIN:VCALENDAR
VERSION:2.0
PRODID:-//specialolympicsnd.org//NONSGML kigkonsult.se iCalcreator 2.30.10/
 /
CALSCALE:GREGORIAN
METHOD:PUBLISH
UID:2bcd4190-dca7-425e-9ddc-087df6f46a0b
X-WR-CALDESC:
X-WR-RELCALID:5f19b9e1960b91942009a3a9eeaeb0fb
X-WR-TIMEZONE:America/Chicago
BEGIN:VTIMEZONE
TZID:America/Chicago
BEGIN:STANDARD
TZNAME:CST
DTSTART:20221106T020000
TZOFFSETFROM:-0500
TZOFFSETTO:-0600
RDATE:20231105T020000
END:STANDARD
BEGIN:DAYLIGHT
TZNAME:CDT
DTSTART:20230312T020000
TZOFFSETFROM:-0600
TZOFFSETTO:-0500
RDATE:20240310T020000
END:DAYLIGHT
END:VTIMEZONE
BEGIN:VEVENT
UID:72abf3de-76c9-4cfb-b026-850f8b86fcee
DTSTAMP:20260425T030953Z
DESCRIPTION:
DTSTART;TZID=America/Chicago:20230501T000000
DTEND;TZID=America/Chicago:20230501T235900
LOCATION:
SUMMARY:Swimming - ENTRY DEADLINE
END:VEVENT
END:VCALENDAR
