BEGIN:VCALENDAR
VERSION:2.0
PRODID:-//specialolympicsnd.org//NONSGML kigkonsult.se iCalcreator 2.30.10/
 /
CALSCALE:GREGORIAN
METHOD:PUBLISH
UID:9d523ad7-905c-46ec-8090-013c1ade4e55
X-WR-CALDESC:State Bowling Tournament in Mandan.\n\n*15 games must be bowle
 d for an athlete to qualify for the State Bowling Tournament.
X-WR-RELCALID:b3125c892c582dba783055a07eef2b65
X-WR-TIMEZONE:America/Chicago
BEGIN:VTIMEZONE
TZID:America/Chicago
BEGIN:STANDARD
TZNAME:CST
DTSTART:20211107T020000
TZOFFSETFROM:-0500
TZOFFSETTO:-0600
RDATE:20221106T020000
RDATE:20231105T020000
END:STANDARD
BEGIN:DAYLIGHT
TZNAME:CDT
DTSTART:20220313T020000
TZOFFSETFROM:-0600
TZOFFSETTO:-0500
RDATE:20230312T020000
RDATE:20240310T020000
END:DAYLIGHT
END:VTIMEZONE
BEGIN:VEVENT
UID:81d9431c-c53f-4019-89d5-17fbb8e69b1e
DTSTAMP:20260425T120632Z
DESCRIPTION:State Bowling Tournament in Mandan.\n\n*15 games must be bowled
  for an athlete to qualify for the State Bowling Tournament.
DTSTART;TZID=America/Chicago:20221105T000000
DTEND;TZID=America/Chicago:20221106T235900
LOCATION:
SUMMARY:Bowling - State Tournament (Mandan)
END:VEVENT
END:VCALENDAR
