BEGIN:VCALENDAR
VERSION:2.0
PRODID:-//specialolympicsnd.org//NONSGML kigkonsult.se iCalcreator 2.30.10/
 /
CALSCALE:GREGORIAN
METHOD:PUBLISH
UID:f6e43386-d378-4686-b47a-87a34f03b1b3
X-WR-CALDESC:State Soccer and Bocce Tournament in Grand Forks.
X-WR-RELCALID:58542e44059bba025d107e17b6c3d7b5
X-WR-TIMEZONE:America/Chicago
BEGIN:VTIMEZONE
TZID:America/Chicago
BEGIN:STANDARD
TZNAME:CST
DTSTART:20211107T020000
TZOFFSETFROM:-0500
TZOFFSETTO:-0600
RDATE:20221106T020000
RDATE:20231105T020000
END:STANDARD
BEGIN:DAYLIGHT
TZNAME:CDT
DTSTART:20220313T020000
TZOFFSETFROM:-0600
TZOFFSETTO:-0500
RDATE:20230312T020000
RDATE:20240310T020000
END:DAYLIGHT
END:VTIMEZONE
BEGIN:VEVENT
UID:4616abc3-1669-4730-9d0c-de15bfddde34
DTSTAMP:20260425T152041Z
DESCRIPTION:State Soccer and Bocce Tournament in Grand Forks.
DTSTART;TZID=America/Chicago:20220917T000000
DTEND;TZID=America/Chicago:20220918T235900
LOCATION:
SUMMARY:Soccer/Bocce - State Tournament (Grand Forks)
END:VEVENT
END:VCALENDAR
