BEGIN:VCALENDAR
VERSION:2.0
PRODID:-//specialolympicsnd.org//NONSGML kigkonsult.se iCalcreator 2.30.10/
 /
CALSCALE:GREGORIAN
METHOD:PUBLISH
UID:53986731-1bab-4368-8210-6e14901938e3
X-WR-CALDESC:
X-WR-RELCALID:bbf651640d0f5a2d5a5efe2100f64bcd
X-WR-TIMEZONE:America/Chicago
BEGIN:VTIMEZONE
TZID:America/Chicago
BEGIN:STANDARD
TZNAME:CST
DTSTART:20251102T020000
TZOFFSETFROM:-0500
TZOFFSETTO:-0600
RDATE:20261101T020000
END:STANDARD
BEGIN:DAYLIGHT
TZNAME:CDT
DTSTART:20260308T020000
TZOFFSETFROM:-0600
TZOFFSETTO:-0500
RDATE:20270314T020000
END:DAYLIGHT
END:VTIMEZONE
BEGIN:VEVENT
UID:ab887613-dd42-43a2-85f6-2b8729d2cc64
DTSTAMP:20260421T195804Z
DESCRIPTION:
DTSTART;TZID=America/Chicago:20260416T173000
DTEND;TZID=America/Chicago:20260416T210000
LOCATION:Chester Fritz Auditorium\, 3475 University Avenue\, Grand Forks\, 
 ND 58202 US
SUMMARY:Dancing For Special Stars
END:VEVENT
END:VCALENDAR
