BEGIN:VCALENDAR
VERSION:2.0
PRODID:-//specialolympicsnd.org//NONSGML kigkonsult.se iCalcreator 2.30.10/
 /
CALSCALE:GREGORIAN
METHOD:PUBLISH
UID:1842f38c-bd30-47e2-a1b7-6c43034297d1
X-WR-CALDESC:
X-WR-RELCALID:cc7375bd03f4a3412d436a9f2b8b37de
X-WR-TIMEZONE:America/Chicago
BEGIN:VTIMEZONE
TZID:America/Chicago
BEGIN:STANDARD
TZNAME:CST
DTSTART:20251102T020000
TZOFFSETFROM:-0500
TZOFFSETTO:-0600
RDATE:20261101T020000
END:STANDARD
BEGIN:DAYLIGHT
TZNAME:CDT
DTSTART:20260308T020000
TZOFFSETFROM:-0600
TZOFFSETTO:-0500
RDATE:20270314T020000
END:DAYLIGHT
END:VTIMEZONE
BEGIN:VEVENT
UID:efe93282-1cd2-456d-92b9-941fe9c52d19
DTSTAMP:20260421T195848Z
DESCRIPTION:
DTSTART;TZID=America/Chicago:20260328T120000
DTEND;TZID=America/Chicago:20260328T140000
LOCATION:Essentia Health Plaza @ The Lights\, 300 32nd Ave W\, West Fargo\,
  ND 58078 US
SUMMARY:LETR Polar Plunge - West Fargo
END:VEVENT
END:VCALENDAR
