BEGIN:VCALENDAR
VERSION:2.0
PRODID:-//specialolympicsnd.org//NONSGML kigkonsult.se iCalcreator 2.30.10/
 /
CALSCALE:GREGORIAN
METHOD:PUBLISH
UID:4b64d05c-5e69-48d2-82af-d9ffac7e2646
X-WR-CALDESC:
X-WR-RELCALID:854e39d2ce473262b56f8c658b4b9c8f
X-WR-TIMEZONE:America/Chicago
BEGIN:VTIMEZONE
TZID:America/Chicago
BEGIN:STANDARD
TZNAME:CST
DTSTART:20251102T020000
TZOFFSETFROM:-0500
TZOFFSETTO:-0600
RDATE:20261101T020000
END:STANDARD
BEGIN:DAYLIGHT
TZNAME:CDT
DTSTART:20260308T020000
TZOFFSETFROM:-0600
TZOFFSETTO:-0500
RDATE:20270314T020000
END:DAYLIGHT
END:VTIMEZONE
BEGIN:VEVENT
UID:2fdb5bce-a7e2-4543-a93a-15b05183f840
DTSTAMP:20260421T195618Z
DESCRIPTION:
DTSTART;TZID=America/Chicago:20260321T123000
DTEND;TZID=America/Chicago:20260321T140000
LOCATION:Choice Health & Fitness\, 4401 S 11th Street\, Grand Forks\, ND 58
 201 US
SUMMARY:LETR Polar Plunge - Grand Forks
END:VEVENT
END:VCALENDAR
