BEGIN:VCALENDAR
VERSION:2.0
PRODID:-//specialolympicsnd.org//NONSGML kigkonsult.se iCalcreator 2.30.10/
 /
CALSCALE:GREGORIAN
METHOD:PUBLISH
UID:e5439c01-23e8-4a80-b558-dc14b2c8229e
X-WR-CALDESC:A free\, inclusive sport and play program for children of all 
 abilities Ages 2-7. \nWalk-up Registration 9:00 - 10:00 am\nSession 10:00 
 - 11:00am\n\nVolunteers needed to assist with check-in/registration\; lead
  sport skill stations\; 1:1 support kids age 2-7\n
X-WR-RELCALID:032e5263d57a57928bd9e17f8f0444f8
X-WR-TIMEZONE:America/Chicago
BEGIN:VTIMEZONE
TZID:America/Chicago
BEGIN:STANDARD
TZNAME:CST
DTSTART:20251102T020000
TZOFFSETFROM:-0500
TZOFFSETTO:-0600
RDATE:20261101T020000
END:STANDARD
BEGIN:DAYLIGHT
TZNAME:CDT
DTSTART:20250309T020000
TZOFFSETFROM:-0600
TZOFFSETTO:-0500
RDATE:20260308T020000
RDATE:20270314T020000
END:DAYLIGHT
END:VTIMEZONE
BEGIN:VEVENT
UID:11e04d9b-3239-4c80-8baa-d846958162ab
DTSTAMP:20260421T195745Z
DESCRIPTION:A free\, inclusive sport and play program for children of all a
 bilities Ages 2-7. \nWalk-up Registration 9:00 - 10:00 am\nSession 10:00 -
  11:00am\n\nVolunteers needed to assist with check-in/registration\; lead 
 sport skill stations\; 1:1 support kids age 2-7\n
DTSTART;TZID=America/Chicago:20260131T090000
DTEND;TZID=America/Chicago:20260131T110000
LOCATION:Centennial Elementary School\, 2800 Ithica Drive\, Bismarck\, ND 5
 8503 US
SUMMARY:Young Athletes - Learn to Play Basketball
END:VEVENT
END:VCALENDAR
