BEGIN:VCALENDAR
VERSION:2.0
PRODID:-//specialolympicsnd.org//NONSGML kigkonsult.se iCalcreator 2.30.10/
 /
CALSCALE:GREGORIAN
METHOD:PUBLISH
UID:19291b56-8c61-4f9e-9462-7a605bc83fa3
X-WR-CALDESC:Drawings held each weekday @ 10:00am.  Weekend drawings will b
 e held on the succeeding Monday morning.  Winners will be notified via pho
 ne call and will be posted on our website and social media.
X-WR-RELCALID:c329d21fb3f6f9f6f3c0ff5984493720
X-WR-TIMEZONE:America/Chicago
BEGIN:VTIMEZONE
TZID:America/Chicago
BEGIN:STANDARD
TZNAME:CST
DTSTART:20251102T020000
TZOFFSETFROM:-0500
TZOFFSETTO:-0600
RDATE:20261101T020000
END:STANDARD
BEGIN:DAYLIGHT
TZNAME:CDT
DTSTART:20250309T020000
TZOFFSETFROM:-0600
TZOFFSETTO:-0500
RDATE:20260308T020000
RDATE:20270314T020000
END:DAYLIGHT
END:VTIMEZONE
BEGIN:VEVENT
UID:41a2dfee-fea9-40e1-bc13-f8efd01500e1
DTSTAMP:20260421T211817Z
DESCRIPTION:Drawings held each weekday @ 10:00am.  Weekend drawings will be
  held on the succeeding Monday morning.  Winners will be notified via phon
 e call and will be posted on our website and social media.
DTSTART;TZID=America/Chicago:20251201T050000
DTEND;TZID=America/Chicago:20251231T050001
LOCATION:Special Olympics ND\, 2616 South 26th Street\, Grand Forks\, ND 58
 201 US
SUMMARY:Gold Medal Grab Raffle Fundraiser
END:VEVENT
END:VCALENDAR
