BEGIN:VCALENDAR
VERSION:2.0
PRODID:-//specialolympicsnd.org//NONSGML kigkonsult.se iCalcreator 2.30.10/
 /
CALSCALE:GREGORIAN
METHOD:PUBLISH
UID:11d942bc-c5e9-411f-a332-bfecbe4a9dad
X-WR-CALDESC:Young Athlete Learn to Play days are designed to give children
  ages 2-7 of all abilities the opportunity to learn new sports skills. Ski
 lls are introduced in a fun and welcoming environment\, so that youth can 
 be introduced to a lifetime of health and fitness.
X-WR-RELCALID:da6526b92090be5ea3a55771c1e971cd
X-WR-TIMEZONE:America/Chicago
BEGIN:VTIMEZONE
TZID:America/Chicago
BEGIN:STANDARD
TZNAME:CST
DTSTART:20241103T020000
TZOFFSETFROM:-0500
TZOFFSETTO:-0600
RDATE:20251102T020000
END:STANDARD
BEGIN:DAYLIGHT
TZNAME:CDT
DTSTART:20240310T020000
TZOFFSETFROM:-0600
TZOFFSETTO:-0500
RDATE:20250309T020000
RDATE:20260308T020000
END:DAYLIGHT
END:VTIMEZONE
BEGIN:VEVENT
UID:63d09e3a-9c09-4102-8fca-6717d8ea3dbe
DTSTAMP:20260421T211613Z
DESCRIPTION:Young Athlete Learn to Play days are designed to give children 
 ages 2-7 of all abilities the opportunity to learn new sports skills. Skil
 ls are introduced in a fun and welcoming environment\, so that youth can b
 e introduced to a lifetime of health and fitness.
DTSTART;TZID=America/Chicago:20250201T093000
DTEND;TZID=America/Chicago:20250201T110000
LOCATION:2007 8th  Ave SE\, Mandan\, ND 58554 US
SUMMARY:Young Athletes Learn to Play- Basketball
END:VEVENT
END:VCALENDAR
