BEGIN:VCALENDAR
VERSION:2.0
PRODID:-//specialolympicsnd.org//NONSGML kigkonsult.se iCalcreator 2.30.10/
 /
CALSCALE:GREGORIAN
METHOD:PUBLISH
UID:d94033b0-52d0-40dc-b549-858ba2921d52
X-WR-CALDESC:
X-WR-RELCALID:bd6333d4a3996e2669517a3ab2246985
X-WR-TIMEZONE:America/Chicago
BEGIN:VTIMEZONE
TZID:America/Chicago
BEGIN:STANDARD
TZNAME:CST
DTSTART:20231105T020000
TZOFFSETFROM:-0500
TZOFFSETTO:-0600
RDATE:20241103T020000
RDATE:20251102T020000
END:STANDARD
BEGIN:DAYLIGHT
TZNAME:CDT
DTSTART:20240310T020000
TZOFFSETFROM:-0600
TZOFFSETTO:-0500
RDATE:20250309T020000
RDATE:20260308T020000
END:DAYLIGHT
END:VTIMEZONE
BEGIN:VEVENT
UID:b25c9714-1d3f-460e-a81f-d3cf70a973a2
DTSTAMP:20260421T225140Z
DESCRIPTION:
DTSTART;TZID=America/Chicago:20241005T050000
DTEND;TZID=America/Chicago:20241005T050001
LOCATION:Pier Bar and Grill\, Bismark \, ND 58504 US
SUMMARY:Bismark Polar Plunge
END:VEVENT
END:VCALENDAR
