BEGIN:VCALENDAR
VERSION:2.0
PRODID:-//specialolympicsnd.org//NONSGML kigkonsult.se iCalcreator 2.30.10/
 /
CALSCALE:GREGORIAN
METHOD:PUBLISH
UID:17d7fd0f-8de4-454a-b584-591157794c91
X-WR-CALDESC:
X-WR-RELCALID:d2725baff53d49e27d0b2d912ebd9896
X-WR-TIMEZONE:America/Chicago
BEGIN:VTIMEZONE
TZID:America/Chicago
BEGIN:STANDARD
TZNAME:CST
DTSTART:20231105T020000
TZOFFSETFROM:-0500
TZOFFSETTO:-0600
RDATE:20241103T020000
END:STANDARD
BEGIN:DAYLIGHT
TZNAME:CDT
DTSTART:20240310T020000
TZOFFSETFROM:-0600
TZOFFSETTO:-0500
RDATE:20250309T020000
END:DAYLIGHT
END:VTIMEZONE
BEGIN:VEVENT
UID:a48afff0-4832-4e39-b7db-1ebc2b3245b4
DTSTAMP:20260421T225317Z
DESCRIPTION:
DTSTART;TZID=America/Chicago:20240427T120000
DTEND;TZID=America/Chicago:20240427T140000
LOCATION:Minot\, ND
SUMMARY:Law Enforcement Torch Run Truck Pull
END:VEVENT
END:VCALENDAR
