BEGIN:VCALENDAR
VERSION:2.0
PRODID:-//specialolympicsnd.org//NONSGML kigkonsult.se iCalcreator 2.30.10/
 /
CALSCALE:GREGORIAN
METHOD:PUBLISH
UID:9eecfedd-9152-4956-946b-310d18c31fcf
X-WR-CALDESC:Similar to the hit TV series 'Dancing with the Stars\,' Specia
 l Olympics' Dancing for Special Stars teams up a dance instructor with a l
 ocal celebrity to raise funds for Special Olympics' programming. Events ar
 e held in April in Grand Forks and in October in Minot. To volunteer as a 
 dancer or to sponsor the event\, please give us a call.
X-WR-RELCALID:55924653947a49de10f58544b782032a
X-WR-TIMEZONE:America/Chicago
BEGIN:VTIMEZONE
TZID:America/Chicago
BEGIN:STANDARD
TZNAME:CST
DTSTART:20231105T020000
TZOFFSETFROM:-0500
TZOFFSETTO:-0600
RDATE:20241103T020000
END:STANDARD
BEGIN:DAYLIGHT
TZNAME:CDT
DTSTART:20240310T020000
TZOFFSETFROM:-0600
TZOFFSETTO:-0500
RDATE:20250309T020000
END:DAYLIGHT
END:VTIMEZONE
BEGIN:VEVENT
UID:4f95b90f-432c-4c97-8318-802e1d031f5b
DTSTAMP:20260421T225228Z
DESCRIPTION:Similar to the hit TV series 'Dancing with the Stars\,' Special
  Olympics' Dancing for Special Stars teams up a dance instructor with a lo
 cal celebrity to raise funds for Special Olympics' programming. Events are
  held in April in Grand Forks and in October in Minot. To volunteer as a d
 ancer or to sponsor the event\, please give us a call.
DTSTART;TZID=America/Chicago:20240416T190000
DTEND;TZID=America/Chicago:20240416T220000
LOCATION:Chester Fritz Auditorium
SUMMARY:Dancing for Special Stars - Grand Forks
END:VEVENT
END:VCALENDAR
