BEGIN:VCALENDAR
VERSION:2.0
PRODID:-//specialolympicsnd.org//NONSGML kigkonsult.se iCalcreator 2.30.10/
 /
CALSCALE:GREGORIAN
METHOD:PUBLISH
UID:562b5f3a-e1c7-4717-a35f-9961ec818980
X-WR-CALDESC:
X-WR-RELCALID:eed51dd76909ee97874f6c070a908535
X-WR-TIMEZONE:America/Chicago
BEGIN:VTIMEZONE
TZID:America/Chicago
BEGIN:STANDARD
TZNAME:CST
DTSTART:20231105T020000
TZOFFSETFROM:-0500
TZOFFSETTO:-0600
RDATE:20241103T020000
END:STANDARD
BEGIN:DAYLIGHT
TZNAME:CDT
DTSTART:20230312T020000
TZOFFSETFROM:-0600
TZOFFSETTO:-0500
RDATE:20240310T020000
RDATE:20250309T020000
END:DAYLIGHT
END:VTIMEZONE
BEGIN:VEVENT
UID:7ba4edc9-b7bd-4a4d-a100-89abd41163cb
DTSTAMP:20260421T225026Z
DESCRIPTION:
DTSTART;TZID=America/Chicago:20240105T190000
DTEND;TZID=America/Chicago:20240105T220000
LOCATION:One Ralph Engelstad Arena Dr\, Grand Forks\, ND 58203 US
SUMMARY:Special Olympics Night- University of North Dakota Men's Hockey
END:VEVENT
END:VCALENDAR
