BEGIN:VCALENDAR
VERSION:2.0
PRODID:-//specialolympicsnd.org//NONSGML kigkonsult.se iCalcreator 2.30.10/
 /
CALSCALE:GREGORIAN
METHOD:PUBLISH
UID:c07ca902-bd8b-43c3-81f5-f922de1231b9
X-WR-CALDESC:
X-WR-RELCALID:3bf78b0db351079142134dbd1e32917e
X-WR-TIMEZONE:America/Chicago
BEGIN:VTIMEZONE
TZID:America/Chicago
BEGIN:STANDARD
TZNAME:CST
DTSTART:20231105T020000
TZOFFSETFROM:-0500
TZOFFSETTO:-0600
RDATE:20241103T020000
END:STANDARD
BEGIN:DAYLIGHT
TZNAME:CDT
DTSTART:20230312T020000
TZOFFSETFROM:-0600
TZOFFSETTO:-0500
RDATE:20240310T020000
RDATE:20250309T020000
END:DAYLIGHT
END:VTIMEZONE
BEGIN:VEVENT
UID:4a5d02fd-ba48-44db-a992-107f9c4f010d
DTSTAMP:20260424T075952Z
DESCRIPTION:
DTSTART;TZID=America/Chicago:20231218T173000
DTEND;TZID=America/Chicago:20231218T213000
LOCATION:7500 University Dr\, Bismarck\, ND 58504 US
SUMMARY:Special Olympics Night- University of Mary Basketball
END:VEVENT
END:VCALENDAR
