BEGIN:VCALENDAR
VERSION:2.0
PRODID:-//specialolympicsnd.org//NONSGML kigkonsult.se iCalcreator 2.30.10/
 /
CALSCALE:GREGORIAN
METHOD:PUBLISH
UID:7a47b402-f3c8-49f3-ab62-29bf132d0734
X-WR-CALDESC:Every year brave souls line up to take an icy plunge\, the Pol
 ar Plunge! The Polar Plunge is a fundraising effort through the Law Enforc
 ement Torch Run for Special Olympics. Funds raised support year round comp
 etition and sports training for Special Olympics North Dakota athletes. Re
 gister as a plunger\, donate now\, or learn how to volunteer with Special 
 Olympics North Dakota and become a champion for our athletes!
X-WR-RELCALID:439ca70a7fb540eb75968ec2735b298d
X-WR-TIMEZONE:America/Chicago
BEGIN:VTIMEZONE
TZID:America/Chicago
BEGIN:STANDARD
TZNAME:CST
DTSTART:20231105T020000
TZOFFSETFROM:-0500
TZOFFSETTO:-0600
RDATE:20241103T020000
END:STANDARD
BEGIN:DAYLIGHT
TZNAME:CDT
DTSTART:20230312T020000
TZOFFSETFROM:-0600
TZOFFSETTO:-0500
RDATE:20240310T020000
RDATE:20250309T020000
END:DAYLIGHT
END:VTIMEZONE
BEGIN:VEVENT
UID:b69985b7-0f8d-4b0b-8d94-f6f3cf3ecf93
DTSTAMP:20260422T002818Z
DESCRIPTION:Every year brave souls line up to take an icy plunge\, the Pola
 r Plunge! The Polar Plunge is a fundraising effort through the Law Enforce
 ment Torch Run for Special Olympics. Funds raised support year round compe
 tition and sports training for Special Olympics North Dakota athletes. Reg
 ister as a plunger\, donate now\, or learn how to volunteer with Special O
 lympics North Dakota and become a champion for our athletes!
DTSTART;TZID=America/Chicago:20231118T110000
DTEND;TZID=America/Chicago:20231118T140000
LOCATION:
SUMMARY:Bismarck Polar Plunge
END:VEVENT
END:VCALENDAR
