BEGIN:VCALENDAR
VERSION:2.0
PRODID:-//specialolympicsnd.org//NONSGML kigkonsult.se iCalcreator 2.30.10/
 /
CALSCALE:GREGORIAN
METHOD:PUBLISH
UID:55a7edbc-9b0f-4b5e-8a51-b44db40d167a
X-WR-CALDESC:
X-WR-RELCALID:77f878fd6f8ccaa84ff7145ce08f9de2
X-WR-TIMEZONE:America/Chicago
BEGIN:VTIMEZONE
TZID:America/Chicago
BEGIN:STANDARD
TZNAME:CST
DTSTART:20221106T020000
TZOFFSETFROM:-0500
TZOFFSETTO:-0600
RDATE:20231105T020000
RDATE:20241103T020000
END:STANDARD
BEGIN:DAYLIGHT
TZNAME:CDT
DTSTART:20230312T020000
TZOFFSETFROM:-0600
TZOFFSETTO:-0500
RDATE:20240310T020000
RDATE:20250309T020000
END:DAYLIGHT
END:VTIMEZONE
BEGIN:VEVENT
UID:5feb3440-9b69-407d-9664-3796e5f9ebae
DTSTAMP:20260422T002948Z
DESCRIPTION:
DTSTART;TZID=America/Chicago:20231017T000000
DTEND;TZID=America/Chicago:20231017T235900
LOCATION:
SUMMARY:Dancing for Special Stars - Minot
END:VEVENT
END:VCALENDAR
