BEGIN:VCALENDAR
VERSION:2.0
PRODID:-//specialolympicsnd.org//NONSGML kigkonsult.se iCalcreator 2.30.10/
 /
CALSCALE:GREGORIAN
METHOD:PUBLISH
UID:365dfa4f-cb44-4432-be1c-9f7129e61156
X-WR-CALDESC:
X-WR-RELCALID:50642867f3b082c2a0358081699e9549
X-WR-TIMEZONE:America/Chicago
BEGIN:VTIMEZONE
TZID:America/Chicago
BEGIN:STANDARD
TZNAME:CST
DTSTART:20221106T020000
TZOFFSETFROM:-0500
TZOFFSETTO:-0600
RDATE:20231105T020000
RDATE:20241103T020000
END:STANDARD
BEGIN:DAYLIGHT
TZNAME:CDT
DTSTART:20230312T020000
TZOFFSETFROM:-0600
TZOFFSETTO:-0500
RDATE:20240310T020000
RDATE:20250309T020000
END:DAYLIGHT
END:VTIMEZONE
BEGIN:VEVENT
UID:8c24ce36-5df9-45a1-9197-d05be2816b17
DTSTAMP:20260422T003126Z
DESCRIPTION:
DTSTART;TZID=America/Chicago:20230930T000000
DTEND;TZID=America/Chicago:20230930T235900
LOCATION:
SUMMARY:LETR Truck Convoy
END:VEVENT
END:VCALENDAR
