BEGIN:VCALENDAR
VERSION:2.0
PRODID:-//specialolympicsnd.org//NONSGML kigkonsult.se iCalcreator 2.30.10/
 /
CALSCALE:GREGORIAN
METHOD:PUBLISH
UID:1ced7f8b-7cb3-4916-a7f7-73db141c35df
X-WR-CALDESC:
X-WR-RELCALID:890cd39ab77fa8d74aa254fd36fc1fcf
X-WR-TIMEZONE:America/Chicago
BEGIN:VTIMEZONE
TZID:America/Chicago
BEGIN:STANDARD
TZNAME:CST
DTSTART:20221106T020000
TZOFFSETFROM:-0500
TZOFFSETTO:-0600
RDATE:20231105T020000
RDATE:20241103T020000
END:STANDARD
BEGIN:DAYLIGHT
TZNAME:CDT
DTSTART:20230312T020000
TZOFFSETFROM:-0600
TZOFFSETTO:-0500
RDATE:20240310T020000
RDATE:20250309T020000
END:DAYLIGHT
END:VTIMEZONE
BEGIN:VEVENT
UID:ea6309ff-0491-46d6-9212-2e82b1c865e4
DTSTAMP:20260422T002818Z
DESCRIPTION:
DTSTART;TZID=America/Chicago:20230920T000000
DTEND;TZID=America/Chicago:20230921T235900
LOCATION:
SUMMARY:Applebee's Tip-a-Cop
END:VEVENT
END:VCALENDAR
