BEGIN:VCALENDAR
VERSION:2.0
PRODID:-//specialolympicsnd.org//NONSGML kigkonsult.se iCalcreator 2.30.10/
 /
CALSCALE:GREGORIAN
METHOD:PUBLISH
UID:0f8f652a-3ea2-4b78-9771-c896d6e7efe5
X-WR-CALDESC:
X-WR-RELCALID:d4b44bc4ed5639f0aef10475cfe52b28
X-WR-TIMEZONE:America/Chicago
BEGIN:VTIMEZONE
TZID:America/Chicago
BEGIN:STANDARD
TZNAME:CST
DTSTART:20221106T020000
TZOFFSETFROM:-0500
TZOFFSETTO:-0600
RDATE:20231105T020000
RDATE:20241103T020000
END:STANDARD
BEGIN:DAYLIGHT
TZNAME:CDT
DTSTART:20230312T020000
TZOFFSETFROM:-0600
TZOFFSETTO:-0500
RDATE:20240310T020000
RDATE:20250309T020000
END:DAYLIGHT
END:VTIMEZONE
BEGIN:VEVENT
UID:a4cd2991-6d21-40f2-9c61-2f7d33281eec
DTSTAMP:20260422T002948Z
DESCRIPTION:
DTSTART;TZID=America/Chicago:20230916T000000
DTEND;TZID=America/Chicago:20230917T235900
LOCATION:
SUMMARY:Soccer/Bocce - State Tournament
END:VEVENT
END:VCALENDAR
