BEGIN:VCALENDAR
VERSION:2.0
PRODID:-//specialolympicsnd.org//NONSGML kigkonsult.se iCalcreator 2.30.10/
 /
CALSCALE:GREGORIAN
METHOD:PUBLISH
UID:03bf02b2-f598-4c13-8cd0-6115b24628aa
X-WR-CALDESC:
X-WR-RELCALID:0de6b9d87490505be2e6dc1f1a6d4df0
X-WR-TIMEZONE:America/Chicago
BEGIN:VTIMEZONE
TZID:America/Chicago
BEGIN:STANDARD
TZNAME:CST
DTSTART:20221106T020000
TZOFFSETFROM:-0500
TZOFFSETTO:-0600
RDATE:20231105T020000
RDATE:20241103T020000
END:STANDARD
BEGIN:DAYLIGHT
TZNAME:CDT
DTSTART:20230312T020000
TZOFFSETFROM:-0600
TZOFFSETTO:-0500
RDATE:20240310T020000
END:DAYLIGHT
END:VTIMEZONE
BEGIN:VEVENT
UID:8ed35463-b1ae-4632-b8a6-c0796059517a
DTSTAMP:20260422T003329Z
DESCRIPTION:
DTSTART;TZID=America/Chicago:20230826T110000
DTEND;TZID=America/Chicago:20230826T130000
LOCATION:University of Mary Fieldhouse-Bismarck
SUMMARY:University of Mary Unified Field Day
END:VEVENT
END:VCALENDAR
