BEGIN:VCALENDAR
VERSION:2.0
PRODID:-//specialolympicsnd.org//NONSGML kigkonsult.se iCalcreator 2.30.10/
 /
CALSCALE:GREGORIAN
METHOD:PUBLISH
UID:8641c16e-671f-462a-8313-c2cc0b8af74a
X-WR-CALDESC:
X-WR-RELCALID:3bbfae9032b50a6fd9df1e908e881149
X-WR-TIMEZONE:America/Chicago
BEGIN:VTIMEZONE
TZID:America/Chicago
BEGIN:STANDARD
TZNAME:CST
DTSTART:20221106T020000
TZOFFSETFROM:-0500
TZOFFSETTO:-0600
RDATE:20231105T020000
RDATE:20241103T020000
END:STANDARD
BEGIN:DAYLIGHT
TZNAME:CDT
DTSTART:20230312T020000
TZOFFSETFROM:-0600
TZOFFSETTO:-0500
RDATE:20240310T020000
END:DAYLIGHT
END:VTIMEZONE
BEGIN:VEVENT
UID:3edbdf47-401e-40f7-9888-69999baa0802
DTSTAMP:20260422T002932Z
DESCRIPTION:
DTSTART;TZID=America/Chicago:20230626T000000
DTEND;TZID=America/Chicago:20230626T235900
LOCATION:
SUMMARY:Fargo Golf Tournament
END:VEVENT
END:VCALENDAR
