BEGIN:VCALENDAR
VERSION:2.0
PRODID:-//specialolympicsnd.org//NONSGML kigkonsult.se iCalcreator 2.30.10/
 /
CALSCALE:GREGORIAN
METHOD:PUBLISH
UID:f5a27330-a529-485c-9cdf-e1f121d6f2bd
X-WR-CALDESC:
X-WR-RELCALID:4da007ec283451ae5e7cf05834882592
X-WR-TIMEZONE:America/Chicago
BEGIN:VTIMEZONE
TZID:America/Chicago
BEGIN:STANDARD
TZNAME:CST
DTSTART:20221106T020000
TZOFFSETFROM:-0500
TZOFFSETTO:-0600
RDATE:20231105T020000
RDATE:20241103T020000
END:STANDARD
BEGIN:DAYLIGHT
TZNAME:CDT
DTSTART:20230312T020000
TZOFFSETFROM:-0600
TZOFFSETTO:-0500
RDATE:20240310T020000
END:DAYLIGHT
END:VTIMEZONE
BEGIN:VEVENT
UID:bb9a8591-47a3-4288-b26f-2f4b6f53ffe5
DTSTAMP:20260422T002900Z
DESCRIPTION:
DTSTART;TZID=America/Chicago:20230605T000000
DTEND;TZID=America/Chicago:20230609T235900
LOCATION:
SUMMARY:Law Enforcement Torch Run
END:VEVENT
END:VCALENDAR
