BEGIN:VCALENDAR
VERSION:2.0
PRODID:-//specialolympicsnd.org//NONSGML kigkonsult.se iCalcreator 2.30.10/
 /
CALSCALE:GREGORIAN
METHOD:PUBLISH
UID:62378475-dafe-49b7-b94f-dbf13dc94e9b
X-WR-CALDESC:
X-WR-RELCALID:cd567a5dbde1980bf440920a7da0b022
X-WR-TIMEZONE:America/Chicago
BEGIN:VTIMEZONE
TZID:America/Chicago
BEGIN:STANDARD
TZNAME:CST
DTSTART:20221106T020000
TZOFFSETFROM:-0500
TZOFFSETTO:-0600
RDATE:20231105T020000
END:STANDARD
BEGIN:DAYLIGHT
TZNAME:CDT
DTSTART:20230312T020000
TZOFFSETFROM:-0600
TZOFFSETTO:-0500
RDATE:20240310T020000
END:DAYLIGHT
END:VTIMEZONE
BEGIN:VEVENT
UID:de0176ac-abef-44c7-8137-78461a408cd0
DTSTAMP:20260422T003232Z
DESCRIPTION:
DTSTART;TZID=America/Chicago:20230418T190000
DTEND;TZID=America/Chicago:20230418T220000
LOCATION:
SUMMARY:Dancing for Special Stars - Grand Forks
END:VEVENT
END:VCALENDAR
