BEGIN:VCALENDAR
VERSION:2.0
PRODID:-//specialolympicsnd.org//NONSGML kigkonsult.se iCalcreator 2.30.10/
 /
CALSCALE:GREGORIAN
METHOD:PUBLISH
UID:d43f77f5-6e7c-4efa-8273-fafc5f873cf2
X-WR-CALDESC:Schedule of Events:\n12pm - Registration Opens\n12:30pm - Plun
 ge Starts\nImmediately following- Lunch & Plunge Awards
X-WR-RELCALID:9cce4144d6d2a7b4a6a9617b9d93655e
X-WR-TIMEZONE:America/Chicago
BEGIN:VTIMEZONE
TZID:America/Chicago
BEGIN:STANDARD
TZNAME:CST
DTSTART:20221106T020000
TZOFFSETFROM:-0500
TZOFFSETTO:-0600
RDATE:20231105T020000
END:STANDARD
BEGIN:DAYLIGHT
TZNAME:CDT
DTSTART:20230312T020000
TZOFFSETFROM:-0600
TZOFFSETTO:-0500
RDATE:20240310T020000
END:DAYLIGHT
END:VTIMEZONE
BEGIN:VEVENT
UID:ebb55c79-4c62-4e5e-a0ec-76faa72474dd
DTSTAMP:20260422T002942Z
DESCRIPTION:Schedule of Events:\n12pm - Registration Opens\n12:30pm - Plung
 e Starts\nImmediately following- Lunch & Plunge Awards
DTSTART;TZID=America/Chicago:20230415T000000
DTEND;TZID=America/Chicago:20230415T235900
LOCATION:The Pier Bar & Grill
SUMMARY:Polar Plunge - Bismarck
END:VEVENT
END:VCALENDAR
