BEGIN:VCALENDAR
VERSION:2.0
PRODID:-//specialolympicsnd.org//NONSGML kigkonsult.se iCalcreator 2.30.10/
 /
CALSCALE:GREGORIAN
METHOD:PUBLISH
UID:b2fc0693-0f37-4ea2-b501-416e4208ebf6
X-WR-CALDESC:Location: Christ the King Parish Life Center\n
X-WR-RELCALID:1c1e4e19943f6aa4fcd390d72d11df9d
X-WR-TIMEZONE:America/Chicago
BEGIN:VTIMEZONE
TZID:America/Chicago
BEGIN:STANDARD
TZNAME:CST
DTSTART:20221106T020000
TZOFFSETFROM:-0500
TZOFFSETTO:-0600
RDATE:20231105T020000
END:STANDARD
BEGIN:DAYLIGHT
TZNAME:CDT
DTSTART:20230312T020000
TZOFFSETFROM:-0600
TZOFFSETTO:-0500
RDATE:20240310T020000
END:DAYLIGHT
END:VTIMEZONE
BEGIN:VEVENT
UID:94fdc724-f1ab-415f-8418-857235e0f1db
DTSTAMP:20260422T003027Z
DESCRIPTION:Location: Christ the King Parish Life Center\n
DTSTART;TZID=America/Chicago:20230402T083000
DTEND;TZID=America/Chicago:20230402T113000
LOCATION:505 10th Ave NW\, Mandan
SUMMARY:SOND Mandan Benefit Breakfast & Silent Auction
END:VEVENT
END:VCALENDAR
