BEGIN:VCALENDAR
VERSION:2.0
PRODID:-//specialolympicsnd.org//NONSGML kigkonsult.se iCalcreator 2.30.10/
 /
CALSCALE:GREGORIAN
METHOD:PUBLISH
UID:d14da396-fe7b-4017-8ae8-f021bd8d7baf
X-WR-CALDESC:Schedule of Events:\n11am - Auction (Car & other items donated
  from city businesses)\n11am - Food (free will donation) and bounce houses
  open\n12pm - Registration Opens\n12:30 - Plunge Starts\n\nFollow us on Fa
 cebook for more details: SpecialolympicsND
X-WR-RELCALID:065a4c877593272dac701ecd44c7129b
X-WR-TIMEZONE:America/Chicago
BEGIN:VTIMEZONE
TZID:America/Chicago
BEGIN:STANDARD
TZNAME:CST
DTSTART:20221106T020000
TZOFFSETFROM:-0500
TZOFFSETTO:-0600
RDATE:20231105T020000
END:STANDARD
BEGIN:DAYLIGHT
TZNAME:CDT
DTSTART:20230312T020000
TZOFFSETFROM:-0600
TZOFFSETTO:-0500
RDATE:20240310T020000
END:DAYLIGHT
END:VTIMEZONE
BEGIN:VEVENT
UID:86175c65-2e14-472e-913b-63264d013578
DTSTAMP:20260422T002823Z
DESCRIPTION:Schedule of Events:\n11am - Auction (Car & other items donated 
 from city businesses)\n11am - Food (free will donation) and bounce houses 
 open\n12pm - Registration Opens\n12:30 - Plunge Starts\n\nFollow us on Fac
 ebook for more details: SpecialolympicsND
DTSTART;TZID=America/Chicago:20230401T000000
DTEND;TZID=America/Chicago:20230401T235900
LOCATION:Upper Missouri Valley Farigrounds
SUMMARY:Polar Plunge - Williston
END:VEVENT
END:VCALENDAR
