BEGIN:VCALENDAR
VERSION:2.0
PRODID:-//specialolympicsnd.org//NONSGML kigkonsult.se iCalcreator 2.30.10/
 /
CALSCALE:GREGORIAN
METHOD:PUBLISH
UID:f65651d5-637c-4fb8-9e96-dcf571da1251
X-WR-CALDESC:Schedule of Events:\n12pm - Registration Opens\n12:30pm - Plun
 ge Starts\nImmediately following- Lunch & Plunge Awards
X-WR-RELCALID:b54d02ad5d31ec2365a6aa17b5dde402
X-WR-TIMEZONE:America/Chicago
BEGIN:VTIMEZONE
TZID:America/Chicago
BEGIN:STANDARD
TZNAME:CST
DTSTART:20221106T020000
TZOFFSETFROM:-0500
TZOFFSETTO:-0600
RDATE:20231105T020000
END:STANDARD
BEGIN:DAYLIGHT
TZNAME:CDT
DTSTART:20230312T020000
TZOFFSETFROM:-0600
TZOFFSETTO:-0500
RDATE:20240310T020000
END:DAYLIGHT
END:VTIMEZONE
BEGIN:VEVENT
UID:b6343ddb-3ce7-4fbf-931b-717c1bc7a7a2
DTSTAMP:20260422T003027Z
DESCRIPTION:Schedule of Events:\n12pm - Registration Opens\n12:30pm - Plung
 e Starts\nImmediately following- Lunch & Plunge Awards
DTSTART;TZID=America/Chicago:20230325T000000
DTEND;TZID=America/Chicago:20230325T235900
LOCATION:The Lights\, West Fargo
SUMMARY:Polar Plunge - West Fargo
END:VEVENT
END:VCALENDAR
