BEGIN:VCALENDAR
VERSION:2.0
PRODID:-//specialolympicsnd.org//NONSGML kigkonsult.se iCalcreator 2.30.10/
 /
CALSCALE:GREGORIAN
METHOD:PUBLISH
UID:d80166ad-9898-4d38-a9c2-072740c630c9
X-WR-CALDESC:Location: Choice Health & Fitness
X-WR-RELCALID:1903701bab8ee028db2e3f22f3767fcc
X-WR-TIMEZONE:America/Chicago
BEGIN:VTIMEZONE
TZID:America/Chicago
BEGIN:STANDARD
TZNAME:CST
DTSTART:20221106T020000
TZOFFSETFROM:-0500
TZOFFSETTO:-0600
RDATE:20231105T020000
END:STANDARD
BEGIN:DAYLIGHT
TZNAME:CDT
DTSTART:20220313T020000
TZOFFSETFROM:-0600
TZOFFSETTO:-0500
RDATE:20230312T020000
RDATE:20240310T020000
END:DAYLIGHT
END:VTIMEZONE
BEGIN:VEVENT
UID:2cbf383c-ee98-4fdc-8508-a8524a7161c1
DTSTAMP:20260422T003050Z
DESCRIPTION:Location: Choice Health & Fitness
DTSTART;TZID=America/Chicago:20230304T000000
DTEND;TZID=America/Chicago:20230304T235900
LOCATION:
SUMMARY:Polar Plunge - Grand Forks
END:VEVENT
END:VCALENDAR
