BEGIN:VCALENDAR
VERSION:2.0
PRODID:-//specialolympicsnd.org//NONSGML kigkonsult.se iCalcreator 2.30.10/
 /
CALSCALE:GREGORIAN
METHOD:PUBLISH
UID:00c3920f-6756-480a-a952-01a2502dcd83
X-WR-CALDESC:Location: TBD
X-WR-RELCALID:c047774cf9977e757f36565057182306
X-WR-TIMEZONE:America/Chicago
BEGIN:VTIMEZONE
TZID:America/Chicago
BEGIN:STANDARD
TZNAME:CST
DTSTART:20221106T020000
TZOFFSETFROM:-0500
TZOFFSETTO:-0600
RDATE:20231105T020000
END:STANDARD
BEGIN:DAYLIGHT
TZNAME:CDT
DTSTART:20220313T020000
TZOFFSETFROM:-0600
TZOFFSETTO:-0500
RDATE:20230312T020000
RDATE:20240310T020000
END:DAYLIGHT
END:VTIMEZONE
BEGIN:VEVENT
UID:74615e09-515f-4f50-a84d-5fd87c4bf5ca
DTSTAMP:20260422T002942Z
DESCRIPTION:Location: TBD
DTSTART;TZID=America/Chicago:20230225T000000
DTEND;TZID=America/Chicago:20230225T235900
LOCATION:
SUMMARY:Polar Plunge - Minot
END:VEVENT
END:VCALENDAR
