BEGIN:VCALENDAR
VERSION:2.0
PRODID:-//specialolympicsnd.org//NONSGML kigkonsult.se iCalcreator 2.30.10/
 /
CALSCALE:GREGORIAN
METHOD:PUBLISH
UID:7dbb77ff-ba3c-476f-b692-483f850b6776
X-WR-CALDESC:State Winter Games in Bottineau.\n\nWinter games sports includ
 e: Alpine Skiing\, Cross Country Skiing\, and Snowshoeing.
X-WR-RELCALID:6976e626607434b339063c4a02de2dd8
X-WR-TIMEZONE:America/Chicago
BEGIN:VTIMEZONE
TZID:America/Chicago
BEGIN:STANDARD
TZNAME:CST
DTSTART:20221106T020000
TZOFFSETFROM:-0500
TZOFFSETTO:-0600
RDATE:20231105T020000
END:STANDARD
BEGIN:DAYLIGHT
TZNAME:CDT
DTSTART:20220313T020000
TZOFFSETFROM:-0600
TZOFFSETTO:-0500
RDATE:20230312T020000
RDATE:20240310T020000
END:DAYLIGHT
END:VTIMEZONE
BEGIN:VEVENT
UID:20868b3a-5abf-4237-9ed4-13a2b43cacc0
DTSTAMP:20260422T003249Z
DESCRIPTION:State Winter Games in Bottineau.\n\nWinter games sports include
 : Alpine Skiing\, Cross Country Skiing\, and Snowshoeing.
DTSTART;TZID=America/Chicago:20230120T000000
DTEND;TZID=America/Chicago:20230121T235900
LOCATION:
SUMMARY:Winter Games - State Tournament (Bottineau)
END:VEVENT
END:VCALENDAR
